BEGIN:VCALENDAR
VERSION:2.0
PRODID:-//First Shot Training Solutions - ECPv6.15.20//NONSGML v1.0//EN
CALSCALE:GREGORIAN
METHOD:PUBLISH
X-ORIGINAL-URL:https://firstshottrainingsolutions.com
X-WR-CALDESC:Events for First Shot Training Solutions
REFRESH-INTERVAL;VALUE=DURATION:PT1H
X-Robots-Tag:noindex
X-PUBLISHED-TTL:PT1H
BEGIN:VTIMEZONE
TZID:UTC
BEGIN:STANDARD
TZOFFSETFROM:+0000
TZOFFSETTO:+0000
TZNAME:UTC
DTSTART:20250101T000000
END:STANDARD
END:VTIMEZONE
BEGIN:VEVENT
DTSTART;TZID=UTC:20260607T080000
DTEND;TZID=UTC:20260607T150000
DTSTAMP:20260419T170743
CREATED:20260416T064200Z
LAST-MODIFIED:20260416T064200Z
UID:3247-1780819200-1780844400@firstshottrainingsolutions.com
SUMMARY:FIREARM SAFETY COURSE 7th JUNE - Gympie Pistol Club
DESCRIPTION:Date:              Sunday 7th JUNE\nTime:             8am Please arrive at the club by 7:45am so we can sign everyone in and start on time.\nLocation:      Gympie Pistol Club – Belvedere Rd\, Veteran QLD \n \nCOURSE FEES:\n$170 – Category AB (Normal Licence)\n$170 – Category H (Handgun)\n$250 – Category ABH \nCategory C\, D and M (Crossbow) or (Collector) also available. Please call for further information and eligibility. \nOnce your booking is complete\, you’ll receive an email with your enrolment confirmation\, course details\, and a link to fill in your information and access pre-learning materials. Please check your Junk or Spam folders if you don’t see the email in your inbox. \nCOURSE INFORMATION FOR THE DAY\nPre-Learning Information click here \nCancellation Policy \nPlease contact us on 0458 013 820 if your Licence Category is sold out\, in some cases we can accommodate your participation by reducing availability in other categories.
URL:https://firstshottrainingsolutions.com/event/firearm-safety-course-7th-june-gympie-pistol-club/
LOCATION:GYMPIE PISTOL CLUB\, Belvedere Rd\, Veteran\, Queensland\, 4570\, Australia
CATEGORIES:FIREARM SAFETY COURSE Category AB (normal Licence),FIREARM SAFETY COURSE Category C,FIREARM SAFETY COURSE Category D,FIREARM SAFETY COURSE Category H,FIREARM SAFETY COURSE Category M,FIREARM SAFETY COURSE Junior Shooters
ATTACH;FMTTYPE=image/jpeg:https://firstshottrainingsolutions.com/wp-content/uploads/2024/10/gympiepistorls.avif
END:VEVENT
BEGIN:VEVENT
DTSTART;TZID=UTC:20260614T080000
DTEND;TZID=UTC:20260614T150000
DTSTAMP:20260419T170743
CREATED:20260405T214237Z
LAST-MODIFIED:20260405T214237Z
UID:3208-1781424000-1781449200@firstshottrainingsolutions.com
SUMMARY:FIREARM SAFETY COURSE 14th JUNE - North Arm Shotgun Association (Sunshine Coast)
DESCRIPTION:Date:              Sunday 14th JUNE\nTime:             8:00am Please arrive at the club by 7:45am so we can sign everyone in and start on time.\nLocation:      North Arm Rifle Club House – 269 Fairhill Rd\, North Arm QLD 4561 \n \n  \nCOURSE FEES: \n$180 (Category A/B – Normal Licence) \n$250 (Category C/D – Semi Auto / Pump Action Shotgun\, Semi Auto Rimfire / Centrefire Rifle) \n$350 (Category ABCD) \nOnce your booking is complete\, you’ll receive an email with your enrolment confirmation\, course details\, and a link to fill in your information and access pre-learning materials. Please check your Junk or Spam folders if you don’t see the email in your inbox. \nCOURSE INFORMATION FOR THE DAY\nPre-Learning Information click here \nCancellation Policy \nBy enrolling on a First Shot Training Solutions course\, you accept and acknowledge the terms and conditions of our policies.
URL:https://firstshottrainingsolutions.com/event/firearm-safety-course-14th-june-north-arm-shotgun-association-sunshine-coast/
LOCATION:NORTH ARM SHOTGUN\, Davison Range 269 Fairhill Road\, North Arm Qld 4561
CATEGORIES:FIREARM SAFETY COURSE Category AB (normal Licence),FIREARM SAFETY COURSE Category C,FIREARM SAFETY COURSE Category D,FIREARM SAFETY COURSE Junior Shooters
ATTACH;FMTTYPE=image/jpeg:https://firstshottrainingsolutions.com/wp-content/uploads/2025/12/north.avif
END:VEVENT
END:VCALENDAR