BEGIN:VCALENDAR
VERSION:2.0
PRODID:-//First Shot Training Solutions - ECPv6.15.20//NONSGML v1.0//EN
CALSCALE:GREGORIAN
METHOD:PUBLISH
X-ORIGINAL-URL:https://firstshottrainingsolutions.com
X-WR-CALDESC:Events for First Shot Training Solutions
REFRESH-INTERVAL;VALUE=DURATION:PT1H
X-Robots-Tag:noindex
X-PUBLISHED-TTL:PT1H
BEGIN:VTIMEZONE
TZID:UTC
BEGIN:STANDARD
TZOFFSETFROM:+0000
TZOFFSETTO:+0000
TZNAME:UTC
DTSTART:20250101T000000
END:STANDARD
END:VTIMEZONE
BEGIN:VEVENT
DTSTART;TZID=UTC:20260322T090000
DTEND;TZID=UTC:20260322T160000
DTSTAMP:20260419T153807
CREATED:20260123T061232Z
LAST-MODIFIED:20260123T061232Z
UID:2879-1774170000-1774195200@firstshottrainingsolutions.com
SUMMARY:FIREARM SAFETY COURSE 22nd MARCH - Redcliffe Clay Target Club (Brisbane)
DESCRIPTION:Date:              Sunday 22nd March 2026\nTime:             9am Please arrive at the club around 8:30am so we can sign everyone in and start on time.\nLocation:      Redcliffe Clay Target Club – 267 Duffield Rd\, Clontarf QLD 4019 \n \nCOURSE FEES: \n$180 (Category A/B – normal licence) \nCategory C available on request. Please call for pricing and eligibility. \nOnce your booking is complete\, you’ll receive an email with your enrolment confirmation\, course details\, and a link to fill in your information and access pre-learning materials. Please check your Junk or Spam folders if you don’t see the email in your inbox. \nCOURSE INFORMATION FOR THE DAY\nPre-Learning Information click here \nCancellation Policy \n 
URL:https://firstshottrainingsolutions.com/event/firearm-safety-course-22nd-march-redcliffe-clay-target-club-brisbane/
LOCATION:Redcliffe Clay Target Club\, 267 Duffield Rd 4019\, Clontarf\, Queensland\, 4019\, Australia
CATEGORIES:FIREARM SAFETY COURSE Category AB (normal Licence),FIREARM SAFETY COURSE Category C,FIREARM SAFETY COURSE Category D,FIREARM SAFETY COURSE Junior Shooters
ATTACH;FMTTYPE=image/jpeg:https://firstshottrainingsolutions.com/wp-content/uploads/2025/08/RCTClogo-e1754543930189.avif
END:VEVENT
END:VCALENDAR